BEGIN:VCALENDAR
VERSION:2.0
PRODID:-//Squarespace Inc/Squarespace 6//v6//EN
BEGIN:VEVENT
UID:598baae6cd0f686159ccfdbe@squarespace.com
DTSTAMP:20180617T080743Z
DTSTART:20171012T000000Z
DTEND:20171012T040000Z
SUMMARY:Hazeldean Merinos Riverina Ram Sale 2017
END:VEVENT
END:VCALENDAR
