BEGIN:VCALENDAR
VERSION:2.0
PRODID:-//Squarespace Inc/Squarespace 6//v6//EN
BEGIN:VEVENT
UID:598ba5344c0dbf58c6d3237f@squarespace.com
DTSTAMP:20180617T081401Z
DTSTART:20171026T170000Z
DTEND:20171026T210000Z
SUMMARY:Hazeldean Merinos Monaro Ram Sale 2017
END:VEVENT
END:VCALENDAR
