BEGIN:VCALENDAR
VERSION:2.0
PRODID:-//Squarespace Inc/Squarespace 6//v6//EN
BEGIN:VEVENT
UID:598b999ccf81e06de9b22f01@squarespace.com
DTSTAMP:20180617T082449Z
DTSTART:20170822T150000Z
DTEND:20170822T210000Z
SUMMARY:Hazeldean North Queensland Bull Sale\, Gracemere\, 2017
END:VEVENT
END:VCALENDAR
