BEGIN:VCALENDAR
VERSION:2.0
PRODID:-//Squarespace Inc/Squarespace 6//v6//EN
BEGIN:VEVENT
UID:598b903fc534a55f0dd8bcc9@squarespace.com
DTSTAMP:20180617T083344Z
DTSTART:20170905T170000Z
DTEND:20170905T210000Z
SUMMARY:Hazeldean Spring Bull Sale 2017
END:VEVENT
END:VCALENDAR
