BEGIN:VCALENDAR
VERSION:2.0
PRODID:-//Squarespace Inc/Squarespace 6//v6//EN
BEGIN:VEVENT
UID:5c4a9749b8a045de8bcaef04@squarespace.com
DTSTAMP:20200220T210951Z
DTSTART:20191017T000000Z
DTEND:20191017T040000Z
SUMMARY:Hazeldean Merinos Riverina Ram Sale 2019
END:VEVENT
END:VCALENDAR
