BEGIN:VCALENDAR
VERSION:2.0
PRODID:-//Squarespace Inc/Squarespace 6//v6//EN
BEGIN:VEVENT
UID:5b2616cf758d468433e11226@squarespace.com
DTSTAMP:20190125T045101Z
DTSTART:20181011T000000Z
DTEND:20181011T040000Z
SUMMARY:Hazeldean Merinos Riverina Ram Sale 2018
END:VEVENT
END:VCALENDAR
