BEGIN:VCALENDAR
VERSION:2.0
PRODID:-//Squarespace Inc/Squarespace 6//v6//EN
BEGIN:VEVENT
UID:5d86dabff7420c6c5b0d65f7@squarespace.com
DTSTAMP:20200910T043818Z
DTSTART:20200117T020000Z
DTEND:20200117T060000Z
SUMMARY:Hazeldean Best of the Best Ram Sale and Woolgrowers Breakfast 2020
END:VEVENT
END:VCALENDAR
