BEGIN:VCALENDAR
VERSION:2.0
PRODID:-//Squarespace Inc/Squarespace 6//v6//EN
BEGIN:VEVENT
UID:5bd7e7867817f7ea4655105a@squarespace.com
DTSTAMP:20190922T022151Z
DTSTART:20190220T020000Z
DTEND:20190220T060000Z
SUMMARY:Hazeldean Best of the Best Ram Sale and Woolgrowers Breakfast 2019
END:VEVENT
END:VCALENDAR
