BEGIN:VCALENDAR
VERSION:2.0
PRODID:-//Squarespace Inc/Squarespace 6//v6//EN
BEGIN:VEVENT
UID:5b261849f950b7fedf1367d1@squarespace.com
DTSTAMP:20190125T045137Z
DTSTART:20181025T020000Z
DTEND:20181025T060000Z
SUMMARY:Hazeldean Merino Monaro Ram Sale 2018
END:VEVENT
END:VCALENDAR
