BEGIN:VCALENDAR
VERSION:2.0
PRODID:-//Squarespace Inc/Squarespace 6//v6//EN
BEGIN:VEVENT
UID:5a252131f9619a06b2e71117@squarespace.com
DTSTAMP:20180522T052329Z
DTSTART:20180212T223000Z
DTEND:20180212T233000Z
SUMMARY:Hazeldean SA Angus Bull Sale 2018
GEO:-36.443086;140.350844
LOCATION:Gumbowie\, 4026 Riddoch Highway\, Willalooka\, SA\, 5267\, Austral
 ia
END:VEVENT
END:VCALENDAR
