BEGIN:VCALENDAR
VERSION:2.0
PRODID:-//Squarespace Inc/Squarespace 6//v6//EN
BEGIN:VEVENT
UID:5a6a7a0e419202cd1218d61f@squarespace.com
DTSTAMP:20181030T053925Z
DTSTART:20180503T020000Z
DTEND:20180503T060000Z
SUMMARY:Hazeldean Autumn Bull and Female Sale
GEO:-36.393296;149.049162
LOCATION:Hazeldean\, 1410 Maffra Road\, Cooma\, NSW\, 2630\, Australia
END:VEVENT
END:VCALENDAR
