BEGIN:VCALENDAR
VERSION:2.0
PRODID:-//Squarespace Inc/Squarespace 6//v6//EN
BEGIN:VEVENT
UID:5b261eccf950b7fedf13c38a@squarespace.com
DTSTAMP:20181206T033828Z
DTSTART:20180816T010000Z
DTEND:20180816T070000Z
SUMMARY:Hazeldean Northern Performance Angus Bull Sale 2018
END:VEVENT
END:VCALENDAR
