BEGIN:VCALENDAR
VERSION:2.0
PRODID:-//Squarespace Inc/Squarespace 6//v6//EN
BEGIN:VEVENT
UID:5d8ac0010b76e766c8f4840e@squarespace.com
DTSTAMP:20191218T031859Z
DTSTART:20200218T020000Z
DTEND:20200218T060000Z
SUMMARY:Hazeldean South Australia Bull Sale 2020
GEO:-36.447629;140.354533
LOCATION:Gumbowie\, A66\, Willalooka\, SA\, 5267\, Australia
END:VEVENT
END:VCALENDAR
