BEGIN:VCALENDAR
VERSION:2.0
PRODID:-//Squarespace Inc/Squarespace 6//v6//EN
BEGIN:VEVENT
UID:5bd7ec660d9297b74f3cdf1a@squarespace.com
DTSTAMP:20190925T011649Z
DTSTART:20190212T020000Z
DTEND:20190212T060000Z
SUMMARY:Hazeldean South Australia Bull Sale 2019
GEO:-36.447629;140.354533
LOCATION:Gumbowie\, A66\, Willalooka\, SA\, 5267\, Australia
END:VEVENT
END:VCALENDAR
