BEGIN:VCALENDAR
VERSION:2.0
PRODID:-//Squarespace Inc/Squarespace 6//v6//EN
BEGIN:VEVENT
UID:5c4a996f562fa7282d4de9bc@squarespace.com
DTSTAMP:20200210T010339Z
DTSTART:20190502T030000Z
DTEND:20190502T070000Z
SUMMARY:Hazeldean Autumn Bull Sale 2019 
END:VEVENT
END:VCALENDAR
