BEGIN:VCALENDAR
VERSION:2.0
PRODID:-//Squarespace Inc/Squarespace 6//v6//EN
BEGIN:VEVENT
UID:5caeb740c83025700b7f4325@squarespace.com
DTSTAMP:20190501T051212Z
DTSTART:20190508T030000Z
DTEND:20190508T070000Z
SUMMARY:Hazeldean Senegus Dispersal Sale 
END:VEVENT
END:VCALENDAR
