BEGIN:VCALENDAR
VERSION:2.0
PRODID:-//Squarespace Inc/Squarespace 6//v6//EN
BEGIN:VEVENT
UID:5b261ce888251ba762dfabcb@squarespace.com
DTSTAMP:20190125T050256Z
DTSTART:20180904T030000Z
DTEND:20180904T070000Z
SUMMARY:Hazeldean Spring Bull Sale 2018
END:VEVENT
END:VCALENDAR
