BEGIN:VCALENDAR
VERSION:2.0
PRODID:-//Squarespace Inc/Squarespace 6//v6//EN
BEGIN:VEVENT
UID:5e4ef59f56968257421c9286@squarespace.com
DTSTAMP:20210118T055954Z
DTSTART:20201015T000000Z
DTEND:20201015T040000Z
SUMMARY:Hazeldean Merinos Riverina Ram Sale 2020
END:VEVENT
END:VCALENDAR
