BEGIN:VCALENDAR
VERSION:2.0
PRODID:-//Squarespace Inc/Squarespace 6//v6//EN
BEGIN:VEVENT
UID:5e4ef4e81a3bc375d9a54492@squarespace.com
DTSTAMP:20201021T224424Z
DTSTART:20201029T020000Z
DTEND:20201029T060000Z
SUMMARY:Hazeldean Merino Monaro Ram Sale 2020
END:VEVENT
END:VCALENDAR
