BEGIN:VCALENDAR
VERSION:2.0
PRODID:-//Squarespace Inc/Squarespace 6//v6//EN
BEGIN:VEVENT
UID:5ecf05152264504f057a1a3e@squarespace.com
DTSTAMP:20201222T000022Z
DTSTART:20200819T010000Z
DTEND:20200819T070000Z
SUMMARY:Inaugural Hazeldean New England Sale TAMWORTH 
GEO:-31.06779;150.850083
LOCATION:TRLX\, 7 Phoenix Street\, Tamworth\, NSW\, Australia
END:VEVENT
END:VCALENDAR
