BEGIN:VCALENDAR
VERSION:2.0
PRODID:-//Squarespace Inc/Squarespace 6//v6//EN
BEGIN:VEVENT
UID:600522a3fc3fdd0a044bebca@squarespace.com
DTSTAMP:20210118T055949Z
DTSTART:20211022T000000Z
DTEND:20211022T040000Z
SUMMARY:Hazeldean Merino Monaro Ram Sale 2021
END:VEVENT
END:VCALENDAR
