BEGIN:VCALENDAR
VERSION:2.0
PRODID:-//Squarespace Inc/Squarespace 6//v6//EN
BEGIN:VEVENT
UID:600523daf77a806cf0d12350@squarespace.com
DTSTAMP:20210118T060148Z
DTSTART:20211014T000000Z
DTEND:20211014T040000Z
SUMMARY:Hazeldean Merinos Riverina Ram Sale 2021
END:VEVENT
END:VCALENDAR
