BEGIN:VCALENDAR
VERSION:2.0
PRODID:-//Squarespace Inc/Squarespace 6//v6//EN
BEGIN:VEVENT
UID:5fe135aa50eb355f249e872a@squarespace.com
DTSTAMP:20201221T235930Z
DTSTART:20210812T010000Z
DTEND:20210812T070000Z
SUMMARY:Hazeldean Northern Performance Angus Bull Sale 2021
END:VEVENT
END:VCALENDAR
