BEGIN:VCALENDAR
VERSION:2.0
PRODID:-//Squarespace Inc/Squarespace 6//v6//EN
BEGIN:VEVENT
UID:5fe12a2acc5fc45944a17516@squarespace.com
DTSTAMP:20210213T004413Z
DTSTART:20210216T020000Z
DTEND:20210216T060000Z
SUMMARY:Hazeldean South Australia Bull Sale 2021
GEO:-25.274398;133.775136
LOCATION:Australia
END:VEVENT
END:VCALENDAR
