BEGIN:VCALENDAR
VERSION:2.0
PRODID:-//Squarespace Inc/Squarespace 6//v6//EN
BEGIN:VEVENT
UID:5fe137f523faae37ab1b13a5@squarespace.com
DTSTAMP:20201222T001319Z
DTSTART:20210903T030000Z
DTEND:20210903T070000Z
SUMMARY:Hazeldean Spring Bull Sale 2021
GEO:-36.3167;149.009519
LOCATION:Hazeldean\, 1410 Maffra road\, The Brothers\, Australia
END:VEVENT
END:VCALENDAR
