BEGIN:VCALENDAR
VERSION:2.0
PRODID:-//Squarespace Inc/Squarespace 6//v6//EN
BEGIN:VEVENT
UID:5fe13716c6595001316cbdb5@squarespace.com
DTSTAMP:20201222T000326Z
DTSTART:20210818T030000Z
DTEND:20210818T090000Z
SUMMARY:Hazeldean New England Sale TAMWORTH 2021
GEO:-31.06779;150.850083
LOCATION:TRLX\, 7 Phoenix Street\, Tamworth\, NSW\, Australia
END:VEVENT
END:VCALENDAR
