BEGIN:VCALENDAR
VERSION:2.0
PRODID:-//Squarespace Inc/Squarespace 6//v6//EN
BEGIN:VEVENT
UID:5f59ae0159ab3511edd5e9f7@squarespace.com
DTSTAMP:20210112T015936Z
DTSTART:20210205T020000Z
DTEND:20210205T060000Z
SUMMARY:Hazeldean Best of the Best Ram Sale and Woolgrowers Breakfast 2021
END:VEVENT
END:VCALENDAR
